BEGIN:VCALENDAR
VERSION:2.0
PRODID:-//ExpressionEngine Easy iCalendar plugin//NONSGML v2.0.0//EN
X-WR-TIMEZONE:America/New_York
X-WR-CALNAME:Upcoming Auctions
BEGIN:VEVENT
UID:160744
DTSTAMP:20260606T090000
DTSTART:20260606T090000
DTEND:20260606T160000
SUMMARY:E.W. Muller Contractors
LOCATION:469 Muller Lane\, Newport News\, VA 23606\, US
DESCRIPTION:Dozers\, Excavators\, Motor Graders\, Dump Trucks\, Pickups\, Tra
 ilers\, Rollers\, Pavers Tractors\, Service Trucks\, Hand Tools\,
  Air Compressors\, Lathe\, Parts\, Office Furniture\, Antique Ar
 tifacts\, Antique Tools Concrete Tools\, & Equipment\, Shop Too
 ls\, etc. After nearly 80 years of dedicated contracting serv
 ice\, E.W.Muller Contractors is closing its doors. join us fo
 r a complete liquidation auction featuring quality well-main
 tained equipment ready to go to work!
URL:https://www.marshallepz.com/auctions/detail/bw160744
SEQUENCE:1
END:VEVENT
END:VCALENDAR